BEGIN:VCALENDAR
VERSION:2.0
PRODID:-//Squarespace Inc/Squarespace 6//v6//EN
BEGIN:VEVENT
UID:58a4d31f1b10e34bdafd5e49@squarespace.com
DTSTAMP:20170215T221909Z
DTSTART:20170218T153000Z
DTEND:20170218T180000Z
SUMMARY:Locally Sauced - Tomato Sauce Making Workshop
GEO:-36.877338;174.856954
LOCATION:Te Oro\, 98 Line Road\, Auckland\, Auckland\, 1072\, New Zealand
END:VEVENT
END:VCALENDAR
