BEGIN:VCALENDAR
VERSION:2.0
PRODID:-//Squarespace Inc/Squarespace 6//v6//EN
BEGIN:VEVENT
UID:58b392829f7456906a46f26d@squarespace.com
DTSTAMP:20170227T024656Z
DTSTART:20170302T170000Z
DTEND:20170302T190000Z
SUMMARY:Lunchtime Learning - Seed Saving and Seed Sowing Workshop
GEO:-36.850655;174.762993
LOCATION:The Griffiths Gardens\, 42 Wellesley Street West\, Auckland\, Auck
 land\, 1010\, New Zealand
END:VEVENT
END:VCALENDAR
