BEGIN:VCALENDAR
VERSION:2.0
PRODID:-//Squarespace Inc/Squarespace 6//v6//EN
BEGIN:VEVENT
UID:58b615e7bebafb6097ce72ef@squarespace.com
DTSTAMP:20170306T223728Z
DTSTART:20170309T170000Z
DTEND:20170309T190000Z
SUMMARY:Lunchtime Learning - Growing Flowers That Glow
GEO:-36.850655;174.762993
LOCATION:The Griffiths Gardens\, 42 Wellesley Street West\, Auckland\, Auck
 land\, 1010\, New Zealand
END:VEVENT
END:VCALENDAR
