BEGIN:VCALENDAR
VERSION:2.0
PRODID:-//Squarespace Inc/Squarespace 6//v6//EN
BEGIN:VEVENT
UID:58bcb8001b631b12e15297e8@squarespace.com
DTSTAMP:20170306T012301Z
DTSTART:20170312T140000Z
DTEND:20170312T160000Z
SUMMARY:Help Design and Make a Pasture Painting in Victoria Park
GEO:-36.84846;174.763332
LOCATION:Victoria Park\, Auckland
END:VEVENT
END:VCALENDAR
