BEGIN:VCALENDAR
VERSION:2.0
PRODID:-//Squarespace Inc/Squarespace 6//v6//EN
BEGIN:VEVENT
UID:58c5b4fd2e69cfc360a8aff2@squarespace.com
DTSTAMP:20170312T205428Z
DTSTART:20170316T160000Z
DTEND:20170316T180000Z
SUMMARY:Lunchtime Learning- How the Biological Engine works
END:VEVENT
END:VCALENDAR
