BEGIN:VCALENDAR
VERSION:2.0
PRODID:-//Squarespace Inc/Squarespace 6//v6//EN
BEGIN:VEVENT
UID:58d053f69f74568bc2dbae74@squarespace.com
DTSTAMP:20170320T221838Z
DTSTART:20170323T160000Z
DTEND:20170323T180000Z
SUMMARY:Lunchtime Learning- Feeding plants through their leaves
END:VEVENT
END:VCALENDAR
