BEGIN:VCALENDAR
VERSION:2.0
PRODID:-//Squarespace Inc/Squarespace 6//v6//EN
BEGIN:VEVENT
UID:58c86d0e9de4bb225ded85df@squarespace.com
DTSTAMP:20170314T222447Z
DTSTART:20170326T140000Z
DTEND:20170326T160000Z
SUMMARY:Help Design and Make a Pasture Painting in Victoria Park
GEO:-36.847376;174.754406
LOCATION:Victoria Park\, Auckland
END:VEVENT
END:VCALENDAR
