BEGIN:VCALENDAR
VERSION:2.0
PRODID:-//Squarespace Inc/Squarespace 6//v6//EN
BEGIN:VEVENT
UID:58d1c9d0725e25b221518e23@squarespace.com
DTSTAMP:20170322T005142Z
DTSTART:20170329T133000Z
DTEND:20170329T183000Z
SUMMARY:Permablitz #1
GEO:-36.904833;174.743879
LOCATION:14 Quest Terrace Mt Roskill Auckland
END:VEVENT
END:VCALENDAR
