BEGIN:VCALENDAR
VERSION:2.0
PRODID:-//Squarespace Inc/Squarespace 6//v6//EN
BEGIN:VEVENT
UID:58bcba11bebafb465e94d662@squarespace.com
DTSTAMP:20170329T001419Z
DTSTART:20170402T140000Z
DTEND:20170402T160000Z
SUMMARY: For the Love of Bees free Natural Bee Keeping School
GEO:-36.84846;174.763332
LOCATION:Campbell Free Kindergarten\, Victoria Park\, Auckland\, New Zealan
 d
END:VEVENT
END:VCALENDAR
