BEGIN:VCALENDAR
VERSION:2.0
PRODID:-//Squarespace Inc/Squarespace 6//v6//EN
BEGIN:VEVENT
UID:58f69c04d1758e4e9eb1eb80@squarespace.com
DTSTAMP:20170418T231028Z
DTSTART:20170420T160000Z
DTEND:20170420T180000Z
SUMMARY:Become a Bees Best Friend- Become a Biological Gardener
GEO:-36.850655;174.762993
LOCATION:42 Wellesley Street West\, Auckland\, Auckland\, 1010\, New Zealan
 d
END:VEVENT
END:VCALENDAR
