BEGIN:VCALENDAR
VERSION:2.0
PRODID:-//Squarespace Inc/Squarespace 6//v6//EN
BEGIN:VEVENT
UID:58f69e77d1758e4e9eb21691@squarespace.com
DTSTAMP:20170418T231949Z
DTSTART:20170430T160000Z
DTEND:20170430T180000Z
SUMMARY:Bees in your Garden - Permaculture Thinking for Children
GEO:-36.850655;174.762993
LOCATION:42 Wellesley Street West\, Auckland\, Auckland\, 1010\, New Zealan
 d
END:VEVENT
END:VCALENDAR
