BEGIN:VCALENDAR
VERSION:2.0
PRODID:-//Squarespace Inc/Squarespace 6//v6//EN
BEGIN:VEVENT
UID:58f6ade91e5b6ce1b444b9c1@squarespace.com
DTSTAMP:20170419T002523Z
DTSTART:20170701T140000Z
DTEND:20170701T170000Z
SUMMARY:Digging Deeper- Life in the Soil with Trish Allen
GEO:-36.850655;174.762993
LOCATION:42 Wellesley Street West\, Auckland\, Auckland\, 1010\, New Zealan
 d
END:VEVENT
END:VCALENDAR
