BEGIN:VCALENDAR
VERSION:2.0
PRODID:-//Squarespace Inc/Squarespace 6//v6//EN
BEGIN:VEVENT
UID:58dafd8a197aea40548ab7a4@squarespace.com
DTSTAMP:20170329T002059Z
DTSTART:20170719T160000Z
DTEND:20170719T180000Z
SUMMARY:Wednesday Composting Classes- Compost Collective
GEO:-36.850655;174.762993
LOCATION:The Griffith Gardens\, 42 Wellesley Street West\, Auckland\, Auckl
 and\, 1010\, New Zealand
END:VEVENT
END:VCALENDAR
