BEGIN:VCALENDAR
VERSION:2.0
PRODID:-//Squarespace Inc/Squarespace 6//v6//EN
BEGIN:VEVENT
UID:58f6aebdf5e2314662f0f6fd@squarespace.com
DTSTAMP:20170419T003212Z
DTSTART:20170805T140000Z
DTEND:20170805T170000Z
SUMMARY:Digging Deeper - Animals and insects in Permaculture
GEO:-36.850655;174.762993
LOCATION:42 Wellesley Street West\, Auckland\, Auckland\, 1010\, New Zealan
 d
END:VEVENT
END:VCALENDAR
